BEGIN:VCALENDAR
VERSION:2.0
PRODID:-//Mörike-Gymnasium - ECPv6.15.20//NONSGML v1.0//EN
CALSCALE:GREGORIAN
METHOD:PUBLISH
X-ORIGINAL-URL:https://mglb.de
X-WR-CALDESC:Veranstaltungen für Mörike-Gymnasium
REFRESH-INTERVAL;VALUE=DURATION:PT1H
X-Robots-Tag:noindex
X-PUBLISHED-TTL:PT1H
BEGIN:VTIMEZONE
TZID:Europe/Berlin
BEGIN:DAYLIGHT
TZOFFSETFROM:+0100
TZOFFSETTO:+0200
TZNAME:CEST
DTSTART:20190331T010000
END:DAYLIGHT
BEGIN:STANDARD
TZOFFSETFROM:+0200
TZOFFSETTO:+0100
TZNAME:CET
DTSTART:20191027T010000
END:STANDARD
BEGIN:DAYLIGHT
TZOFFSETFROM:+0100
TZOFFSETTO:+0200
TZNAME:CEST
DTSTART:20200329T010000
END:DAYLIGHT
BEGIN:STANDARD
TZOFFSETFROM:+0200
TZOFFSETTO:+0100
TZNAME:CET
DTSTART:20201025T010000
END:STANDARD
BEGIN:DAYLIGHT
TZOFFSETFROM:+0100
TZOFFSETTO:+0200
TZNAME:CEST
DTSTART:20210328T010000
END:DAYLIGHT
BEGIN:STANDARD
TZOFFSETFROM:+0200
TZOFFSETTO:+0100
TZNAME:CET
DTSTART:20211031T010000
END:STANDARD
END:VTIMEZONE
BEGIN:VEVENT
DTSTART;VALUE=DATE:20200201
DTEND;VALUE=DATE:20200211
DTSTAMP:20260422T040413
CREATED:20181112T090415Z
LAST-MODIFIED:20191025T102020Z
UID:1412-1580515200-1581379199@mglb.de
SUMMARY:Austausch Gran Canaria (Spanien)
DESCRIPTION:MGL in Gran Canaria
URL:https://mglb.de/event/austausch-gran-canaria-lb-in-cran-canaria/
END:VEVENT
BEGIN:VEVENT
DTSTART;VALUE=DATE:20200203
DTEND;VALUE=DATE:20200425
DTSTAMP:20260422T040413
CREATED:20180906T113450Z
LAST-MODIFIED:20190827T081728Z
UID:1247-1580688000-1587772799@mglb.de
SUMMARY:3. Quartal
DESCRIPTION:
URL:https://mglb.de/event/beginn-3-quartal/
END:VEVENT
BEGIN:VEVENT
DTSTART;VALUE=DATE:20200205
DTEND;VALUE=DATE:20200208
DTSTAMP:20260422T040413
CREATED:20191014T051728Z
LAST-MODIFIED:20191014T051728Z
UID:2411-1580860800-1581119999@mglb.de
SUMMARY:Schullandheim Kl. 5d
DESCRIPTION:
URL:https://mglb.de/event/schullandheim-kl-5d/
END:VEVENT
BEGIN:VEVENT
DTSTART;TZID=Europe/Berlin:20200206T190000
DTEND;TZID=Europe/Berlin:20200206T210000
DTSTAMP:20260422T040413
CREATED:20180904T113057Z
LAST-MODIFIED:20200128T082916Z
UID:1131-1581015600-1581022800@mglb.de
SUMMARY:MGpLus Infoabend für Elternvertreter der Klassen 5 - 9
DESCRIPTION:Raum M208
URL:https://mglb.de/event/mgplus-elternabend-klassen-789/
LOCATION:ZOOM Konferenzen\, Karlstraße 19\, Ludwigsburg\, 71638\, Deutschland
END:VEVENT
BEGIN:VEVENT
DTSTART;TZID=Europe/Berlin:20200207T000000
DTEND;TZID=Europe/Berlin:20200207T000000
DTSTAMP:20260422T040413
CREATED:20180903T132930Z
LAST-MODIFIED:20190827T051141Z
UID:1102-1581033600-1581033600@mglb.de
SUMMARY:Ausgabe der Halbjahresinformation
DESCRIPTION:
URL:https://mglb.de/event/ausgabe-der-halbjahresinformation/
LOCATION:ZOOM Konferenzen\, Karlstraße 19\, Ludwigsburg\, 71638\, Deutschland
END:VEVENT
BEGIN:VEVENT
DTSTART;VALUE=DATE:20200207
DTEND;VALUE=DATE:20200208
DTSTAMP:20260422T040413
CREATED:20180906T112345Z
LAST-MODIFIED:20190827T064341Z
UID:1244-1581033600-1581119999@mglb.de
SUMMARY:Zeugnisausgabe JG1.1
DESCRIPTION:
URL:https://mglb.de/event/zeugnisausgabe-jg1-1/
LOCATION:ZOOM Konferenzen\, Karlstraße 19\, Ludwigsburg\, 71638\, Deutschland
END:VEVENT
BEGIN:VEVENT
DTSTART;TZID=Europe/Berlin:20200212T190000
DTEND;TZID=Europe/Berlin:20200212T220000
DTSTAMP:20260422T040413
CREATED:20190830T061720Z
LAST-MODIFIED:20190830T062348Z
UID:2246-1581534000-1581544800@mglb.de
SUMMARY:2. Elternbeiratssitzung
DESCRIPTION:
URL:https://mglb.de/event/2-elternbeiratssitzung-2/
LOCATION:Stadtbadmensa\, Alleenstr.\, 71638 Ludwigsburg
END:VEVENT
BEGIN:VEVENT
DTSTART;TZID=Europe/Berlin:20200213T113000
DTEND;TZID=Europe/Berlin:20200213T130000
DTSTAMP:20260422T040413
CREATED:20180905T124136Z
LAST-MODIFIED:20200123T083616Z
UID:1175-1581593400-1581598800@mglb.de
SUMMARY:Schülerinfo zur Kursstufe Klassen 10
DESCRIPTION:Aula
URL:https://mglb.de/event/schuelerinfo-zur-kursstufe-klassen-10/
LOCATION:Mörike-Gymnasium Aula\, Karlstr. 19\, 71638 Ludwigsburg
END:VEVENT
BEGIN:VEVENT
DTSTART;TZID=Europe/Berlin:20200218T190000
DTEND;TZID=Europe/Berlin:20200218T220000
DTSTAMP:20260422T040413
CREATED:20180905T121549Z
LAST-MODIFIED:20190827T075417Z
UID:1160-1582052400-1582063200@mglb.de
SUMMARY:Elternabend Klassen 7a und 7plus
DESCRIPTION:Vorstellung der Profile
URL:https://mglb.de/event/elternabend-klassen-7a-und-7pb-pf/
LOCATION:Mörike-Gymnasium Aula\, Karlstr. 19\, 71638 Ludwigsburg
END:VEVENT
BEGIN:VEVENT
DTSTART;VALUE=DATE:20200220
DTEND;VALUE=DATE:20200221
DTSTAMP:20260422T040413
CREATED:20180906T115906Z
LAST-MODIFIED:20190827T080012Z
UID:1263-1582156800-1582243199@mglb.de
SUMMARY:späteste Abgabe der Wahlbogen zur Profilwahl für Klasse 8
DESCRIPTION:Abgabe bei den Klassenlehrern
URL:https://mglb.de/event/spaeteste-abgabe-der-wahlbogen-zur-profilwahl-fuer-klasse-8/
LOCATION:ZOOM Konferenzen\, Karlstraße 19\, Ludwigsburg\, 71638\, Deutschland
END:VEVENT
BEGIN:VEVENT
DTSTART;TZID=Europe/Berlin:20200220T190000
DTEND;TZID=Europe/Berlin:20200220T220000
DTSTAMP:20260422T040413
CREATED:20180905T121946Z
LAST-MODIFIED:20190827T075309Z
UID:1164-1582225200-1582236000@mglb.de
SUMMARY:Elternabend Klassen 9 mit Berufswahlinfo BIZ
DESCRIPTION:gemeinsamer Beginn Raum M401 \n 
URL:https://mglb.de/event/elternabend-klassen-9/
LOCATION:ZOOM Konferenzen\, Karlstraße 19\, Ludwigsburg\, 71638\, Deutschland
END:VEVENT
BEGIN:VEVENT
DTSTART;TZID=Europe/Berlin:20200220T190000
DTEND;TZID=Europe/Berlin:20200220T220000
DTSTAMP:20260422T040413
CREATED:20180905T123137Z
LAST-MODIFIED:20190827T075551Z
UID:1173-1582225200-1582236000@mglb.de
SUMMARY:Elterninformation zur Kursstufe für Klassenstufe 10
DESCRIPTION:
URL:https://mglb.de/event/elterninformation-zur-kurstufe-fuer-klassenstufe-10/
LOCATION:Mörike-Gymnasium Aula\, Karlstr. 19\, 71638 Ludwigsburg
END:VEVENT
END:VCALENDAR