BEGIN:VCALENDAR
VERSION:2.0
PRODID:-//Mörike-Gymnasium - ECPv6.15.20//NONSGML v1.0//EN
CALSCALE:GREGORIAN
METHOD:PUBLISH
X-WR-CALNAME:Mörike-Gymnasium
X-ORIGINAL-URL:https://mglb.de
X-WR-CALDESC:Veranstaltungen für Mörike-Gymnasium
REFRESH-INTERVAL;VALUE=DURATION:PT1H
X-Robots-Tag:noindex
X-PUBLISHED-TTL:PT1H
BEGIN:VTIMEZONE
TZID:Europe/Berlin
BEGIN:DAYLIGHT
TZOFFSETFROM:+0100
TZOFFSETTO:+0200
TZNAME:CEST
DTSTART:20180325T010000
END:DAYLIGHT
BEGIN:STANDARD
TZOFFSETFROM:+0200
TZOFFSETTO:+0100
TZNAME:CET
DTSTART:20181028T010000
END:STANDARD
BEGIN:DAYLIGHT
TZOFFSETFROM:+0100
TZOFFSETTO:+0200
TZNAME:CEST
DTSTART:20190331T010000
END:DAYLIGHT
BEGIN:STANDARD
TZOFFSETFROM:+0200
TZOFFSETTO:+0100
TZNAME:CET
DTSTART:20191027T010000
END:STANDARD
BEGIN:DAYLIGHT
TZOFFSETFROM:+0100
TZOFFSETTO:+0200
TZNAME:CEST
DTSTART:20200329T010000
END:DAYLIGHT
BEGIN:STANDARD
TZOFFSETFROM:+0200
TZOFFSETTO:+0100
TZNAME:CET
DTSTART:20201025T010000
END:STANDARD
END:VTIMEZONE
BEGIN:VEVENT
DTSTART;VALUE=DATE:20190403
DTEND;VALUE=DATE:20190406
DTSTAMP:20260424T233837
CREATED:20180919T073349Z
LAST-MODIFIED:20191014T051431Z
UID:1347-1554249600-1554508799@mglb.de
SUMMARY:Schullandheim Kl. 5c
DESCRIPTION:
URL:https://mglb.de/event/kurzschullandheim-klasse-5ce/
END:VEVENT
BEGIN:VEVENT
DTSTART;VALUE=DATE:20190403
DTEND;VALUE=DATE:20190406
DTSTAMP:20260424T233837
CREATED:20190328T134007Z
LAST-MODIFIED:20190906T062304Z
UID:1896-1554249600-1554508799@mglb.de
SUMMARY:Bkp Exkursion Klassenstufe 8
DESCRIPTION:
URL:https://mglb.de/event/bkp-exkursion-klassenstufe-8/
END:VEVENT
BEGIN:VEVENT
DTSTART;TZID=Europe/Berlin:20190404T190000
DTEND;TZID=Europe/Berlin:20190404T220000
DTSTAMP:20260424T233837
CREATED:20180906T121159Z
LAST-MODIFIED:20190906T062304Z
UID:1278-1554404400-1554415200@mglb.de
SUMMARY:Musik-Theater-Projekt Kl. 6 /  1. Abendvorstellung
DESCRIPTION:
URL:https://mglb.de/event/musiktheaterprojekt-kl-6-1-abendvorstellung/
LOCATION:Mörike-Gymnasium Aula\, Karlstr. 19\, 71638 Ludwigsburg
END:VEVENT
BEGIN:VEVENT
DTSTART;VALUE=DATE:20190405
DTEND;VALUE=DATE:20190413
DTSTAMP:20260424T233837
CREATED:20180906T121538Z
LAST-MODIFIED:20190906T062304Z
UID:1282-1554422400-1555113599@mglb.de
SUMMARY:Austausch Genf (Schweiz)
DESCRIPTION:Genf am MGL
URL:https://mglb.de/event/austausch-genf-schweiz/
END:VEVENT
BEGIN:VEVENT
DTSTART;TZID=Europe/Berlin:20190405T190000
DTEND;TZID=Europe/Berlin:20190405T220000
DTSTAMP:20260424T233837
CREATED:20180906T121342Z
LAST-MODIFIED:20190906T062303Z
UID:1280-1554490800-1554501600@mglb.de
SUMMARY:Musik-Theater-Projekt Kl. 6 / 2. Abendvorstellung
DESCRIPTION:
URL:https://mglb.de/event/musiktheaterprojekt-klasse-6-2-abendvorstellung/
LOCATION:Mörike-Gymnasium Aula\, Karlstr. 19\, 71638 Ludwigsburg
END:VEVENT
BEGIN:VEVENT
DTSTART;TZID=Europe/Berlin:20190408T190000
DTEND;TZID=Europe/Berlin:20190408T220000
DTSTAMP:20260424T233837
CREATED:20180906T121904Z
LAST-MODIFIED:20190906T062303Z
UID:1286-1554750000-1554760800@mglb.de
SUMMARY:Musik-Theater-Projekt Kl. 6  / 3. Abendvorstellung
DESCRIPTION:
URL:https://mglb.de/event/musiktheaterprojekt-klassen-6-3-abendvorstellung/
LOCATION:Mörike-Gymnasium Aula\, Karlstr. 19\, 71638 Ludwigsburg
END:VEVENT
BEGIN:VEVENT
DTSTART;VALUE=DATE:20190409
DTEND;VALUE=DATE:20190410
DTSTAMP:20260424T233837
CREATED:20180906T122521Z
LAST-MODIFIED:20190906T062303Z
UID:1291-1554768000-1554854399@mglb.de
SUMMARY:Musik-Theater-Projekt Kl. 6 / 4. Abendvorstellung
DESCRIPTION:
URL:https://mglb.de/event/musiktheaterprojekt-kl-6-4-abendvorstellung/
LOCATION:Mörike-Gymnasium Aula\, Karlstr. 19\, 71638 Ludwigsburg
END:VEVENT
BEGIN:VEVENT
DTSTART;VALUE=DATE:20190429
DTEND;VALUE=DATE:20190504
DTSTAMP:20260424T233837
CREATED:20181015T084716Z
LAST-MODIFIED:20190906T062227Z
UID:1397-1556496000-1556927999@mglb.de
SUMMARY:Sprachreise Winchester
DESCRIPTION:
URL:https://mglb.de/event/sprachreise-winchester/
END:VEVENT
BEGIN:VEVENT
DTSTART;VALUE=DATE:20190429
DTEND;VALUE=DATE:20190508
DTSTAMP:20260424T233837
CREATED:20180906T123235Z
LAST-MODIFIED:20190906T062227Z
UID:1301-1556496000-1557273599@mglb.de
SUMMARY:Austausch La Roche sur Yon (F)
DESCRIPTION:MGL in La Roche sur Yon
URL:https://mglb.de/event/austausch-la-roche-sur-yon-f/
END:VEVENT
END:VCALENDAR