BEGIN:VCALENDAR
VERSION:2.0
PRODID:-//Mörike-Gymnasium - ECPv6.15.20//NONSGML v1.0//EN
CALSCALE:GREGORIAN
METHOD:PUBLISH
X-ORIGINAL-URL:https://mglb.de
X-WR-CALDESC:Veranstaltungen für Mörike-Gymnasium
REFRESH-INTERVAL;VALUE=DURATION:PT1H
X-Robots-Tag:noindex
X-PUBLISHED-TTL:PT1H
BEGIN:VTIMEZONE
TZID:Europe/Berlin
BEGIN:DAYLIGHT
TZOFFSETFROM:+0100
TZOFFSETTO:+0200
TZNAME:CEST
DTSTART:20180325T010000
END:DAYLIGHT
BEGIN:STANDARD
TZOFFSETFROM:+0200
TZOFFSETTO:+0100
TZNAME:CET
DTSTART:20181028T010000
END:STANDARD
BEGIN:DAYLIGHT
TZOFFSETFROM:+0100
TZOFFSETTO:+0200
TZNAME:CEST
DTSTART:20190331T010000
END:DAYLIGHT
BEGIN:STANDARD
TZOFFSETFROM:+0200
TZOFFSETTO:+0100
TZNAME:CET
DTSTART:20191027T010000
END:STANDARD
BEGIN:DAYLIGHT
TZOFFSETFROM:+0100
TZOFFSETTO:+0200
TZNAME:CEST
DTSTART:20200329T010000
END:DAYLIGHT
BEGIN:STANDARD
TZOFFSETFROM:+0200
TZOFFSETTO:+0100
TZNAME:CET
DTSTART:20201025T010000
END:STANDARD
END:VTIMEZONE
BEGIN:VEVENT
DTSTART;VALUE=DATE:20190715
DTEND;VALUE=DATE:20190724
DTSTAMP:20260424T203520
CREATED:20180903T131622Z
LAST-MODIFIED:20190906T062226Z
UID:1096-1563148800-1563926399@mglb.de
SUMMARY:Bücherwechsel Kl. 5-10
DESCRIPTION:
URL:https://mglb.de/event/buecherwechsel-kl-5-10/
LOCATION:ZOOM Konferenzen\, Karlstraße 19\, Ludwigsburg\, 71638\, Deutschland
END:VEVENT
BEGIN:VEVENT
DTSTART;TZID=Europe/Berlin:20190722T083000
DTEND;TZID=Europe/Berlin:20190724T121000
DTSTAMP:20260424T203520
CREATED:20181010T082408Z
LAST-MODIFIED:20190906T062225Z
UID:1373-1563784200-1563970200@mglb.de
SUMMARY:Projektwoche
DESCRIPTION:
URL:https://mglb.de/event/projektwoche/
LOCATION:ZOOM Konferenzen\, Karlstraße 19\, Ludwigsburg\, 71638\, Deutschland
END:VEVENT
BEGIN:VEVENT
DTSTART;VALUE=DATE:20190723
DTEND;VALUE=DATE:20190724
DTSTAMP:20260424T203520
CREATED:20180903T133300Z
LAST-MODIFIED:20190906T062225Z
UID:1108-1563840000-1563926399@mglb.de
SUMMARY:Klassentag 2
DESCRIPTION:
URL:https://mglb.de/event/klassentag-2/
END:VEVENT
END:VCALENDAR