BEGIN:VCALENDAR
VERSION:2.0
PRODID:-//Mörike-Gymnasium - ECPv6.15.20//NONSGML v1.0//EN
CALSCALE:GREGORIAN
METHOD:PUBLISH
X-ORIGINAL-URL:https://mglb.de
X-WR-CALDESC:Veranstaltungen für Mörike-Gymnasium
REFRESH-INTERVAL;VALUE=DURATION:PT1H
X-Robots-Tag:noindex
X-PUBLISHED-TTL:PT1H
BEGIN:VTIMEZONE
TZID:Europe/Berlin
BEGIN:DAYLIGHT
TZOFFSETFROM:+0100
TZOFFSETTO:+0200
TZNAME:CEST
DTSTART:20180325T010000
END:DAYLIGHT
BEGIN:STANDARD
TZOFFSETFROM:+0200
TZOFFSETTO:+0100
TZNAME:CET
DTSTART:20181028T010000
END:STANDARD
BEGIN:DAYLIGHT
TZOFFSETFROM:+0100
TZOFFSETTO:+0200
TZNAME:CEST
DTSTART:20190331T010000
END:DAYLIGHT
BEGIN:STANDARD
TZOFFSETFROM:+0200
TZOFFSETTO:+0100
TZNAME:CET
DTSTART:20191027T010000
END:STANDARD
BEGIN:DAYLIGHT
TZOFFSETFROM:+0100
TZOFFSETTO:+0200
TZNAME:CEST
DTSTART:20200329T010000
END:DAYLIGHT
BEGIN:STANDARD
TZOFFSETFROM:+0200
TZOFFSETTO:+0100
TZNAME:CET
DTSTART:20201025T010000
END:STANDARD
END:VTIMEZONE
BEGIN:VEVENT
DTSTART;VALUE=DATE:20190429
DTEND;VALUE=DATE:20190504
DTSTAMP:20260424T233906
CREATED:20181015T084716Z
LAST-MODIFIED:20190906T062227Z
UID:1397-1556496000-1556927999@mglb.de
SUMMARY:Sprachreise Winchester
DESCRIPTION:
URL:https://mglb.de/event/sprachreise-winchester/
END:VEVENT
BEGIN:VEVENT
DTSTART;VALUE=DATE:20190429
DTEND;VALUE=DATE:20190508
DTSTAMP:20260424T233906
CREATED:20180906T123235Z
LAST-MODIFIED:20190906T062227Z
UID:1301-1556496000-1557273599@mglb.de
SUMMARY:Austausch La Roche sur Yon (F)
DESCRIPTION:MGL in La Roche sur Yon
URL:https://mglb.de/event/austausch-la-roche-sur-yon-f/
END:VEVENT
END:VCALENDAR